BEGIN:VCALENDAR
VERSION:2.0
PRODID:-//LKS Różnowo - ECPv6.6.3//NONSGML v1.0//EN
CALSCALE:GREGORIAN
METHOD:PUBLISH
X-WR-CALNAME:LKS Różnowo
X-ORIGINAL-URL:https://www.lks.roznowo.pl
X-WR-CALDESC:Wydarzenia dla LKS Różnowo
REFRESH-INTERVAL;VALUE=DURATION:PT1H
X-Robots-Tag:noindex
X-PUBLISHED-TTL:PT1H
BEGIN:VTIMEZONE
TZID:Europe/Warsaw
BEGIN:DAYLIGHT
TZOFFSETFROM:+0100
TZOFFSETTO:+0200
TZNAME:CEST
DTSTART:20240331T010000
END:DAYLIGHT
BEGIN:STANDARD
TZOFFSETFROM:+0200
TZOFFSETTO:+0100
TZNAME:CET
DTSTART:20241027T010000
END:STANDARD
END:VTIMEZONE
BEGIN:VEVENT
DTSTART;TZID=Europe/Warsaw:20241012T110000
DTEND;TZID=Europe/Warsaw:20241012T130000
DTSTAMP:20260421T144834
CREATED:20240911T054855Z
LAST-MODIFIED:20240911T054855Z
UID:165-1728730800-1728738000@www.lks.roznowo.pl
SUMMARY:Trampkarze: LKS Różnowo - LKS Reduta Bisztynek
DESCRIPTION:8	kolejka II liga wojewódzka C1 Trampkarz Grupa 3
URL:https://www.lks.roznowo.pl/event/trampkarze-lks-roznowo-lks-reduta-bisztynek/
CATEGORIES:Mecze
END:VEVENT
BEGIN:VEVENT
DTSTART;TZID=Europe/Warsaw:20241012T160000
DTEND;TZID=Europe/Warsaw:20241012T180000
DTSTAMP:20260421T144834
CREATED:20240910T194114Z
LAST-MODIFIED:20240911T054825Z
UID:82-1728748800-1728756000@www.lks.roznowo.pl
SUMMARY:Seniorzy: KS Łęgajny - LKS Różnowo
DESCRIPTION:9 kolejka  Klasa A Grupa 3
URL:https://www.lks.roznowo.pl/event/ks-legajny-lks-roznowo/
CATEGORIES:Mecze
END:VEVENT
BEGIN:VEVENT
DTSTART;TZID=Europe/Warsaw:20241019T110000
DTEND;TZID=Europe/Warsaw:20241019T130000
DTSTAMP:20260421T144834
CREATED:20240911T054857Z
LAST-MODIFIED:20240911T054857Z
UID:166-1729335600-1729342800@www.lks.roznowo.pl
SUMMARY:Trampkarze: BKS Tęcza Biskupiec - LKS Różnowo
DESCRIPTION:9	kolejka II liga wojewódzka C1 Trampkarz Grupa 3
URL:https://www.lks.roznowo.pl/event/trampkarze-bks-tecza-biskupiec-lks-roznowo/
CATEGORIES:Mecze
END:VEVENT
BEGIN:VEVENT
DTSTART;TZID=Europe/Warsaw:20241019T130000
DTEND;TZID=Europe/Warsaw:20241019T150000
DTSTAMP:20260421T144834
CREATED:20240910T194116Z
LAST-MODIFIED:20240911T054827Z
UID:83-1729342800-1729350000@www.lks.roznowo.pl
SUMMARY:Seniorzy: LKS Różnowo - MKS Jeziorany
DESCRIPTION:10 kolejka Klasa A Grupa 3
URL:https://www.lks.roznowo.pl/event/lks-roznowo-mks-jeziorany/
CATEGORIES:Mecze
END:VEVENT
BEGIN:VEVENT
DTSTART;TZID=Europe/Warsaw:20241026T110000
DTEND;TZID=Europe/Warsaw:20241026T130000
DTSTAMP:20260421T144834
CREATED:20240911T054858Z
LAST-MODIFIED:20240911T054858Z
UID:167-1729940400-1729947600@www.lks.roznowo.pl
SUMMARY:Trampkarze: LKS Różnowo - KS Tempo Ramsowo Wipsowo
DESCRIPTION:10	kolejka II liga wojewódzka C1 Trampkarz Grupa 3
URL:https://www.lks.roznowo.pl/event/trampkarze-lks-roznowo-ks-tempo-ramsowo-wipsowo/
CATEGORIES:Mecze
END:VEVENT
BEGIN:VEVENT
DTSTART;TZID=Europe/Warsaw:20241027T160000
DTEND;TZID=Europe/Warsaw:20241027T180000
DTSTAMP:20260421T144834
CREATED:20240910T194121Z
LAST-MODIFIED:20240911T054827Z
UID:84-1730044800-1730052000@www.lks.roznowo.pl
SUMMARY:Seniorzy: SKF FC Dajtki Olsztyn - LKS Różnowo
DESCRIPTION:11 kolejka Klasa A Grupa 3
URL:https://www.lks.roznowo.pl/event/skf-fc-dajtki-olsztyn-lks-roznowo/
CATEGORIES:Mecze
END:VEVENT
BEGIN:VEVENT
DTSTART;TZID=Europe/Warsaw:20241102T130000
DTEND;TZID=Europe/Warsaw:20241102T150000
DTSTAMP:20260421T144834
CREATED:20240911T054827Z
LAST-MODIFIED:20240911T054827Z
UID:158-1730552400-1730559600@www.lks.roznowo.pl
SUMMARY:Seniorzy: LKS Różnowo - GZPN Omulew Wielbark
DESCRIPTION:12 kolejka Klasa A Grupa 3
URL:https://www.lks.roznowo.pl/event/seniorzy-lks-roznowo-gzpn-omulew-wielbark/
CATEGORIES:Mecze
END:VEVENT
BEGIN:VEVENT
DTSTART;TZID=Europe/Warsaw:20241109T130000
DTEND;TZID=Europe/Warsaw:20241109T150000
DTSTAMP:20260421T144834
CREATED:20240910T194124Z
LAST-MODIFIED:20240911T054828Z
UID:86-1731157200-1731164400@www.lks.roznowo.pl
SUMMARY:Seniorzy: GKS Colet Kozłowo - LKS Różnowo
DESCRIPTION:13 kolejka Klasa A Grupa 3
URL:https://www.lks.roznowo.pl/event/gks-colet-kozlowo-lks-roznowo/
CATEGORIES:Mecze
END:VEVENT
END:VCALENDAR