BEGIN:VCALENDAR
VERSION:2.0
PRODID:-//LKS Różnowo - ECPv6.6.3//NONSGML v1.0//EN
CALSCALE:GREGORIAN
METHOD:PUBLISH
X-ORIGINAL-URL:https://www.lks.roznowo.pl
X-WR-CALDESC:Wydarzenia dla LKS Różnowo
REFRESH-INTERVAL;VALUE=DURATION:PT1H
X-Robots-Tag:noindex
X-PUBLISHED-TTL:PT1H
BEGIN:VTIMEZONE
TZID:Europe/Warsaw
BEGIN:DAYLIGHT
TZOFFSETFROM:+0100
TZOFFSETTO:+0200
TZNAME:CEST
DTSTART:20240331T010000
END:DAYLIGHT
BEGIN:STANDARD
TZOFFSETFROM:+0200
TZOFFSETTO:+0100
TZNAME:CET
DTSTART:20241027T010000
END:STANDARD
END:VTIMEZONE
BEGIN:VEVENT
DTSTART;TZID=Europe/Warsaw:20241005T090000
DTEND;TZID=Europe/Warsaw:20241005T110000
DTSTAMP:20260421T112422
CREATED:20240911T054854Z
LAST-MODIFIED:20240911T054854Z
UID:164-1728118800-1728126000@www.lks.roznowo.pl
SUMMARY:Trampkarze: GKS Pisa Barczewo - LKS Różnowo
DESCRIPTION:7	kolejka II liga wojewódzka C1 Trampkarz Grupa 3
URL:https://www.lks.roznowo.pl/event/trampkarze-gks-pisa-barczewo-lks-roznowo/
CATEGORIES:Mecze
END:VEVENT
BEGIN:VEVENT
DTSTART;TZID=Europe/Warsaw:20241005T130000
DTEND;TZID=Europe/Warsaw:20241005T150000
DTSTAMP:20260421T112422
CREATED:20240910T194112Z
LAST-MODIFIED:20240911T054825Z
UID:81-1728133200-1728140400@www.lks.roznowo.pl
SUMMARY:Seniorzy: LKS Różnowo - KS Warmia Wrzesina
DESCRIPTION:8 kolejka  Klasa A Grupa 3
URL:https://www.lks.roznowo.pl/event/lks-roznowo-ks-warmia-wrzesina/
CATEGORIES:Mecze
END:VEVENT
END:VCALENDAR