BEGIN:VCALENDAR
VERSION:2.0
PRODID:-//LKS Różnowo - ECPv6.6.3//NONSGML v1.0//EN
CALSCALE:GREGORIAN
METHOD:PUBLISH
X-WR-CALNAME:LKS Różnowo
X-ORIGINAL-URL:https://www.lks.roznowo.pl
X-WR-CALDESC:Wydarzenia dla LKS Różnowo
REFRESH-INTERVAL;VALUE=DURATION:PT1H
X-Robots-Tag:noindex
X-PUBLISHED-TTL:PT1H
BEGIN:VTIMEZONE
TZID:Europe/Warsaw
BEGIN:DAYLIGHT
TZOFFSETFROM:+0100
TZOFFSETTO:+0200
TZNAME:CEST
DTSTART:20240331T010000
END:DAYLIGHT
BEGIN:STANDARD
TZOFFSETFROM:+0200
TZOFFSETTO:+0100
TZNAME:CET
DTSTART:20241027T010000
END:STANDARD
END:VTIMEZONE
BEGIN:VEVENT
DTSTART;TZID=Europe/Warsaw:20240929T110000
DTEND;TZID=Europe/Warsaw:20240929T130000
DTSTAMP:20260421T142300
CREATED:20240911T054853Z
LAST-MODIFIED:20240911T054853Z
UID:163-1727607600-1727614800@www.lks.roznowo.pl
SUMMARY:Trampkarze: LKS Różnowo - GKS Cresovia Górowo Iławeckie
DESCRIPTION:6	kolejka II liga wojewódzka C1 Trampkarz Grupa 3
URL:https://www.lks.roznowo.pl/event/trampkarze-lks-roznowo-gks-cresovia-gorowo-ilaweckie/
CATEGORIES:Mecze
END:VEVENT
END:VCALENDAR